BEGIN:VCALENDAR
VERSION:2.0
PRODID:-//OÖNachrichten FORUM - ECPv4.6.14.1//NONSGML v1.0//EN
CALSCALE:GREGORIAN
METHOD:PUBLISH
X-WR-CALNAME:OÖNachrichten FORUM
X-ORIGINAL-URL:https://www.nachrichtenforum.at
X-WR-CALDESC:Veranstaltungen für OÖNachrichten FORUM
BEGIN:VEVENT
DTSTART;VALUE=DATE:20180814
DTEND;VALUE=DATE:20180815
DTSTAMP:20180626T082701
CREATED:20180410T141014Z
LAST-MODIFIED:20180410T141014Z
UID:154-1534204800-1534291199@www.nachrichtenforum.at
SUMMARY:Test-Veranstaltung 1\, 2 oder 3
DESCRIPTION:Test-Veranstaltung\, damit mehr im Kalender drin steht 🙂 \n
URL:https://www.nachrichtenforum.at/index.php/event/test-veranstaltung-1-2-oder-3/
LOCATION:Promenade 25\, Linz\, Oberösterreich\, 4010\, Österreich
ORGANIZER;CN="O%C3%96Nachrichten":MAILTO:marketing@nachrichten.at
END:VEVENT
BEGIN:VEVENT
DTSTART;TZID=Europe/Berlin:20181228T190000
DTEND;TZID=Europe/Berlin:20181228T233000
DTSTAMP:20180626T082701
CREATED:20180410T141033Z
LAST-MODIFIED:20180410T142610Z
UID:151-1546023600-1546039800@www.nachrichtenforum.at
SUMMARY:Geburtstagsfeier Michael Kaufmann
DESCRIPTION:Michael Kaufmann haut auf den Putz und feiert seinen 27er in der besonderen Atmosphäre des OÖNachrichten FORUMs in den Promenaden Galerien in Linz. Die Veranstaltung ist natürlich öffentlich. Wir freuen uns auf Ihr Kommen! \n \n
URL:https://www.nachrichtenforum.at/index.php/event/geburtstagsfeier-michael-kaufmann/
LOCATION:Promenade 25\, Linz\, Oberösterreich\, 4010\, Österreich
ORGANIZER;CN="Michael%20Kaufmann":MAILTO:m.kaufmann@nachrichten.at
END:VEVENT
END:VCALENDAR